BEGIN:VCALENDAR
VERSION:2.0
PRODID:-//Hamburg Township Historical Museum - ECPv6.15.18//NONSGML v1.0//EN
CALSCALE:GREGORIAN
METHOD:PUBLISH
X-ORIGINAL-URL:https://hamburgmuseum.org
X-WR-CALDESC:Events for Hamburg Township Historical Museum
REFRESH-INTERVAL;VALUE=DURATION:PT1H
X-Robots-Tag:noindex
X-PUBLISHED-TTL:PT1H
BEGIN:VTIMEZONE
TZID:UTC
BEGIN:STANDARD
TZOFFSETFROM:+0000
TZOFFSETTO:+0000
TZNAME:UTC
DTSTART:20250101T000000
END:STANDARD
END:VTIMEZONE
BEGIN:VEVENT
DTSTART;TZID=UTC:20260516T120000
DTEND;TZID=UTC:20260516T130000
DTSTAMP:20260423T230939
CREATED:20260402T213505Z
LAST-MODIFIED:20260402T213505Z
UID:1563-1778932800-1778936400@hamburgmuseum.org
SUMMARY:Springtime Tea
DESCRIPTION:In recognition of America250 we will honor our Founding Mothers. \n$35/person includes full tea & program. Self-guided tour of museum exhibits. \nWatch Facebook\, your email and this site for registration information.
URL:https://hamburgmuseum.org/event/springtime-tea/
LOCATION:Hamburg Township Museum\, 7225 Stone St.\, Hamburg\, MI\, 48139\, United States
ATTACH;FMTTYPE=image/jpeg:https://hamburgmuseum.org/wp-content/uploads/tea.jpg
END:VEVENT
END:VCALENDAR